BEGIN:VCALENDAR
VERSION:2.0
PRODID:-//UCLA HARRT - ECPv6.11.2.1//NONSGML v1.0//EN
CALSCALE:GREGORIAN
METHOD:PUBLISH
X-ORIGINAL-URL:https://harrt.ucla.edu
X-WR-CALDESC:Events for UCLA HARRT
REFRESH-INTERVAL;VALUE=DURATION:PT1H
X-Robots-Tag:noindex
X-PUBLISHED-TTL:PT1H
BEGIN:VTIMEZONE
TZID:America/Los_Angeles
BEGIN:DAYLIGHT
TZOFFSETFROM:-0800
TZOFFSETTO:-0700
TZNAME:PDT
DTSTART:20210314T100000
END:DAYLIGHT
BEGIN:STANDARD
TZOFFSETFROM:-0700
TZOFFSETTO:-0800
TZNAME:PST
DTSTART:20211107T090000
END:STANDARD
END:VTIMEZONE
BEGIN:VEVENT
DTSTART;TZID=America/Los_Angeles:20210319T114500
DTEND;TZID=America/Los_Angeles:20210319T124500
DTSTAMP:20260425T043141
CREATED:20210317T230510Z
LAST-MODIFIED:20210317T230510Z
UID:10000089-1616154300-1616157900@harrt.ucla.edu
SUMMARY:Dean's Series - LEADERS of the FUTURE: Unleashing the Power of Psychological Safety ~ Dr. Amy Edmondson
DESCRIPTION:The past year has resulted in major disruptions to corporate strategies and operations as a result of the global pandemic\, digital transformation\, economic uncertainty\, and social discourse. As corporate leaders rethink how their organizations will perform in the future\, there is a renewed emphasis on creating an inclusive organization to encourage the development of creative\, innovative\, and productive teams.  \n  \nFor many years\, Amy C. Edmondson\, Professor of Leadership at Harvard Business School and author of the book “The Fearless Organization” and Martijn Sjoorda\, Co-Founder\, The Fearless Organization\, have studied how creating psychological safety is the key ingredient to develop high-performing\, humane\, and resilient leaders for the future. \n Please join UCLA’s Professor Corinne Bendersky as she interviews our speakers and they discuss how to build competitive and innovative organizations in the future by: \n\nExploring the link between psychological safety and high performance\nCreating a speak-up culture where it’s “safe” to express ideas\, ask questions\, and admit mistakes\nNurturing the level of engagement and candor required to succeed in today’s new economy\n\n Each attendee will receive access to a survey to gauge your personal level of psychological safety in your organization.
URL:https://harrt.ucla.edu/event/leaders-of-the-future-unleashing-the-power-of-psychological-safety/
LOCATION:virtual
CATEGORIES:Associate Member Events,LA Area,Senior Member Events,Virtual
ATTACH;FMTTYPE=image/jpeg:https://harrt.ucla.edu/wp-content/uploads/2021/03/N35262105A_1.jpg
END:VEVENT
END:VCALENDAR