BEGIN:VCALENDAR
VERSION:2.0
PRODID:-//UCLA HARRT - ECPv6.11.2.1//NONSGML v1.0//EN
CALSCALE:GREGORIAN
METHOD:PUBLISH
X-ORIGINAL-URL:https://harrt.ucla.edu
X-WR-CALDESC:Events for UCLA HARRT
REFRESH-INTERVAL;VALUE=DURATION:PT1H
X-Robots-Tag:noindex
X-PUBLISHED-TTL:PT1H
BEGIN:VTIMEZONE
TZID:America/Los_Angeles
BEGIN:DAYLIGHT
TZOFFSETFROM:-0800
TZOFFSETTO:-0700
TZNAME:PDT
DTSTART:20210314T100000
END:DAYLIGHT
BEGIN:STANDARD
TZOFFSETFROM:-0700
TZOFFSETTO:-0800
TZNAME:PST
DTSTART:20211107T090000
END:STANDARD
END:VTIMEZONE
BEGIN:VEVENT
DTSTART;TZID=America/Los_Angeles:20210413T120000
DTEND;TZID=America/Los_Angeles:20210413T133000
DTSTAMP:20260423T205255
CREATED:20210317T233945Z
LAST-MODIFIED:20210317T233945Z
UID:10000093-1618315200-1618320600@harrt.ucla.edu
SUMMARY:Week 4 - Fearless Book Club Lunchtime Series For People Leaders - How to create a psychologically safe workplace
DESCRIPTION:When employees don’t have the freedom to speak up\, it can erode your employee engagement. That’s one reason why cultivating psychological safety is so important. \nInspired by the Fearless Organization by Amy C. Edmondson\, Novartis Professor of Leadership at Harvard Business School\, this fully on-line 4-week FEARLESS book club series is designed for leaders in Human Resources\, Organization Development\, Learning & Development\, and Talent Management as well as organizational leaders who are people-centric and committed to creating a workplace where employees can bring their full selves to work every day. \nYOUR BOOK CLUB FACILITATOR\nSandy Asch\nSandy is a TEDx speaker\, best-selling author\, RESILIENCE thought leader\, and woman of influence award winner. Her book ROAR was named by INC magazine as one of the best business books written by a woman. Over the past 20 years\, through keynote presentations and workshops\, 40\,000+ leaders in 50 countries and 6 languages have implemented Sandy’s ideas to embrace change\, manage work-life balance\, and be more resilient – to ROAR with purpose and passion.
URL:https://harrt.ucla.edu/event/week-4-fearless-book-club-lunchtime-series-for-people-leaders-how-to-create-a-psychologically-safe-workplace/
LOCATION:virtual
CATEGORIES:Associate Member Events,LA Area,Senior Member Events,Virtual
ATTACH;FMTTYPE=image/png:https://harrt.ucla.edu/wp-content/uploads/2021/03/GV7JJhXJQqqCdzkWZwN8_Thinkific_course_landing_pages_4_png.png
END:VEVENT
END:VCALENDAR