BEGIN:VCALENDAR
VERSION:2.0
PRODID:-//UCLA HARRT - ECPv6.11.2.1//NONSGML v1.0//EN
CALSCALE:GREGORIAN
METHOD:PUBLISH
X-ORIGINAL-URL:https://harrt.ucla.edu
X-WR-CALDESC:Events for UCLA HARRT
REFRESH-INTERVAL;VALUE=DURATION:PT1H
X-Robots-Tag:noindex
X-PUBLISHED-TTL:PT1H
BEGIN:VTIMEZONE
TZID:America/Los_Angeles
BEGIN:DAYLIGHT
TZOFFSETFROM:-0800
TZOFFSETTO:-0700
TZNAME:PDT
DTSTART:20210314T100000
END:DAYLIGHT
BEGIN:STANDARD
TZOFFSETFROM:-0700
TZOFFSETTO:-0800
TZNAME:PST
DTSTART:20211107T090000
END:STANDARD
END:VTIMEZONE
BEGIN:VEVENT
DTSTART;TZID=America/Los_Angeles:20210226T120000
DTEND;TZID=America/Los_Angeles:20210226T130000
DTSTAMP:20260420T182814
CREATED:20210317T225613Z
LAST-MODIFIED:20210317T225613Z
UID:10000088-1614340800-1614344400@harrt.ucla.edu
SUMMARY:HARRT Executive Members only - Bob Johansen Book Club #2
DESCRIPTION:Bob will broadly discuss the overall theme of his book but will mostly focus his time on Chapters 9 & 10. At his request\, we have intentionally limited these discussions to a small group to encourage conversation. HARRT purchased an electronic copy of his book\, Full Spectrum Thinking for each HARRT member attendee.
URL:https://harrt.ucla.edu/event/harrt-executive-members-only-bob-johansen-book-club-2/
LOCATION:virtual
CATEGORIES:LA Area,Senior Member Events,Virtual
END:VEVENT
BEGIN:VEVENT
DTSTART;TZID=America/Los_Angeles:20210219T120000
DTEND;TZID=America/Los_Angeles:20210219T130000
DTSTAMP:20260420T182814
CREATED:20210317T224915Z
LAST-MODIFIED:20210317T224915Z
UID:10000087-1613736000-1613739600@harrt.ucla.edu
SUMMARY:HARRT Executive Members only - Bob Johansen Book Club #1
DESCRIPTION:Bob will broadly discuss the overall theme of his book but will mostly focus his time on Chapters 9 & 10 during this two-week book club. At his request\, we have intentionally limited these discussions to a small group to encourage conversation. HARRT purchased an electronic copy of his book\, Full Spectrum Thinking for each HARRT member attendee.
URL:https://harrt.ucla.edu/event/harrt-executive-members-only-bob-johansen-book-club-1/
LOCATION:virtual
CATEGORIES:LA Area,Senior Member Events,Virtual
END:VEVENT
BEGIN:VEVENT
DTSTART;TZID=America/Los_Angeles:20210212T113000
DTEND;TZID=America/Los_Angeles:20210212T130000
DTSTAMP:20260420T182814
CREATED:20210317T214248Z
LAST-MODIFIED:20210317T214248Z
UID:10000086-1613129400-1613134800@harrt.ucla.edu
SUMMARY:Dean's Series - FULL-SPECTRUM THINKING IN A POST-OUTBREAK WORLD ~ Dr. Bob Johansen
DESCRIPTION:Dr. Bob Johansen\, a distinguished fellow with the Institute for the Future in Silicon Valley and friend of HARRT\, has been doing ten-year forecasting for more than thirty years\, with remarkable accuracy. In this talk\, he will share his latest forecasts for the post-outbreak world\, with a focus on opportunities and threats for the human resources function. Full-spectrum thinking is the ability to seek clarity across gradients of possibility–while resisting the temptations of certainty and simplistic labeling. Bob will discuss how leaders can think in full-spectrum ways\, particularly across the spectrum of human/computer potential. Digital augmentation of humans will be mandatory to thrive in the future and Bob will provide his latest thinking about how leaders of the future can thrive in an increasingly digital world.  \n*As a follow-on to this discussion\, Bob will facilitate a BOOK CLUB exclusively for HARRT Senior Executive Members on February 16 & 26. As part of membership\, each participating HARRT Executive member will receive a complimentary digital copy of Bob’s new book: Full-Spectrum Thinking: How to Escape Boxes in a Post-Categorical Future
URL:https://harrt.ucla.edu/event/full-spectrum-thinking-in-a-post-outbreak-world/
CATEGORIES:Associate Member Events,LA Area,Senior Member Events,Virtual
END:VEVENT
END:VCALENDAR