BEGIN:VCALENDAR
VERSION:2.0
PRODID:-//UCLA HARRT - ECPv6.11.2.1//NONSGML v1.0//EN
CALSCALE:GREGORIAN
METHOD:PUBLISH
X-ORIGINAL-URL:https://harrt.ucla.edu
X-WR-CALDESC:Events for UCLA HARRT
REFRESH-INTERVAL;VALUE=DURATION:PT1H
X-Robots-Tag:noindex
X-PUBLISHED-TTL:PT1H
BEGIN:VTIMEZONE
TZID:America/Los_Angeles
BEGIN:DAYLIGHT
TZOFFSETFROM:-0800
TZOFFSETTO:-0700
TZNAME:PDT
DTSTART:20170312T100000
END:DAYLIGHT
BEGIN:STANDARD
TZOFFSETFROM:-0700
TZOFFSETTO:-0800
TZNAME:PST
DTSTART:20171105T090000
END:STANDARD
END:VTIMEZONE
BEGIN:VEVENT
DTSTART;TZID=America/Los_Angeles:20170315T150000
DTEND;TZID=America/Los_Angeles:20170315T180000
DTSTAMP:20260419T172152
CREATED:20170109T232104Z
LAST-MODIFIED:20170109T232104Z
UID:10000049-1489590000-1489600800@harrt.ucla.edu
SUMMARY:Senior Member Round Table: "Building a Resilient Organization" (OC Area)
DESCRIPTION:Building a Resilient Organization \nSpeakers: \nSandy Asch\, CEO and best-selling author of ROAR \nAlliance for Organizational Excellence \nCBSNews Interview of Sandy Asch \nMegan Culver\, Vice President\, Human Resources \nMorley Builders \nCharlie Muttillo\, President \nMorley Builders
URL:https://harrt.ucla.edu/event/building-resilient-organization-oc-area/
LOCATION:Panasonic Avionics\, Lake Forest\, CA\, United States
CATEGORIES:Senior Member Events
ATTACH;FMTTYPE=image/jpeg:https://harrt.ucla.edu/wp-content/uploads/2014/08/HARRT-Seal-Solo-NEW.jpg
END:VEVENT
END:VCALENDAR