BEGIN:VCALENDAR
VERSION:2.0
PRODID:-//UCLA HARRT - ECPv6.11.2.1//NONSGML v1.0//EN
CALSCALE:GREGORIAN
METHOD:PUBLISH
X-ORIGINAL-URL:https://harrt.ucla.edu
X-WR-CALDESC:Events for UCLA HARRT
REFRESH-INTERVAL;VALUE=DURATION:PT1H
X-Robots-Tag:noindex
X-PUBLISHED-TTL:PT1H
BEGIN:VTIMEZONE
TZID:America/Los_Angeles
BEGIN:DAYLIGHT
TZOFFSETFROM:-0800
TZOFFSETTO:-0700
TZNAME:PDT
DTSTART:20190310T100000
END:DAYLIGHT
BEGIN:STANDARD
TZOFFSETFROM:-0700
TZOFFSETTO:-0800
TZNAME:PST
DTSTART:20191103T090000
END:STANDARD
BEGIN:DAYLIGHT
TZOFFSETFROM:-0800
TZOFFSETTO:-0700
TZNAME:PDT
DTSTART:20200308T100000
END:DAYLIGHT
BEGIN:STANDARD
TZOFFSETFROM:-0700
TZOFFSETTO:-0800
TZNAME:PST
DTSTART:20201101T090000
END:STANDARD
BEGIN:DAYLIGHT
TZOFFSETFROM:-0800
TZOFFSETTO:-0700
TZNAME:PDT
DTSTART:20210314T100000
END:DAYLIGHT
BEGIN:STANDARD
TZOFFSETFROM:-0700
TZOFFSETTO:-0800
TZNAME:PST
DTSTART:20211107T090000
END:STANDARD
BEGIN:DAYLIGHT
TZOFFSETFROM:-0800
TZOFFSETTO:-0700
TZNAME:PDT
DTSTART:20220313T100000
END:DAYLIGHT
BEGIN:STANDARD
TZOFFSETFROM:-0700
TZOFFSETTO:-0800
TZNAME:PST
DTSTART:20221106T090000
END:STANDARD
BEGIN:DAYLIGHT
TZOFFSETFROM:-0800
TZOFFSETTO:-0700
TZNAME:PDT
DTSTART:20230312T100000
END:DAYLIGHT
BEGIN:STANDARD
TZOFFSETFROM:-0700
TZOFFSETTO:-0800
TZNAME:PST
DTSTART:20231105T090000
END:STANDARD
BEGIN:DAYLIGHT
TZOFFSETFROM:-0800
TZOFFSETTO:-0700
TZNAME:PDT
DTSTART:20240310T100000
END:DAYLIGHT
BEGIN:STANDARD
TZOFFSETFROM:-0700
TZOFFSETTO:-0800
TZNAME:PST
DTSTART:20241103T090000
END:STANDARD
BEGIN:DAYLIGHT
TZOFFSETFROM:-0800
TZOFFSETTO:-0700
TZNAME:PDT
DTSTART:20250309T100000
END:DAYLIGHT
BEGIN:STANDARD
TZOFFSETFROM:-0700
TZOFFSETTO:-0800
TZNAME:PST
DTSTART:20251102T090000
END:STANDARD
END:VTIMEZONE
BEGIN:VEVENT
DTSTART;TZID=America/Los_Angeles:20250225T100000
DTEND;TZID=America/Los_Angeles:20250225T150000
DTSTAMP:20260423T094954
CREATED:20241210T004334Z
LAST-MODIFIED:20251103T225907Z
UID:10000131-1740477600-1740495600@harrt.ucla.edu
SUMMARY:HARRT at UCLA Inclusive Leadership Summit
DESCRIPTION:In today’s dynamic global landscape\, inclusive leadership has become a critical cornerstone of organizational excellence. It focuses on creating an environment where every individual feels valued\, heard\, and empowered to contribute their unique perspectives and talents. \nOur Summit will explore the transformative power of inclusive leadership – examining how embracing differences\, promoting psychological safety\, and intentionally developing diverse talent can revolutionize workplace culture and drive sustainable success. \nWe look forward to you joining us on February 25th as we explore how inclusive leadership can become a powerful strategic tool for talent development\, organizational resilience\, and sustainable growth.
URL:https://harrt.ucla.edu/event/harrt-at-ucla-inclusive-leadership-summit/
LOCATION:UCLA Extension\, 1145 Gayley Ave\, Los Angeles\, CA\, 90024\, United States
CATEGORIES:Associate Member Events,In-Person,LA Area,Senior Member Events
END:VEVENT
BEGIN:VEVENT
DTSTART;TZID=America/Los_Angeles:20190327T150000
DTEND;TZID=America/Los_Angeles:20190327T190000
DTSTAMP:20260423T094954
CREATED:20190109T232640Z
LAST-MODIFIED:20190109T232640Z
UID:10000072-1553698800-1553713200@harrt.ucla.edu
SUMMARY:Associate Member Roundtable: HR's Impact on Corporate Culture
DESCRIPTION:
URL:https://harrt.ucla.edu/event/associate-member-roundtable-hrs-impact-on-corporate-culture/
LOCATION:UCLA Extension\, 1145 Gayley Ave\, Los Angeles\, CA\, 90024\, United States
CATEGORIES:Associate Member Events
ATTACH;FMTTYPE=image/jpeg:https://harrt.ucla.edu/wp-content/uploads/2019/01/Corp-Culture-PTSP.jpg
END:VEVENT
END:VCALENDAR