BEGIN:VCALENDAR
VERSION:2.0
PRODID:-//UCLA HARRT - ECPv6.11.2.1//NONSGML v1.0//EN
CALSCALE:GREGORIAN
METHOD:PUBLISH
X-ORIGINAL-URL:https://harrt.ucla.edu
X-WR-CALDESC:Events for UCLA HARRT
REFRESH-INTERVAL;VALUE=DURATION:PT1H
X-Robots-Tag:noindex
X-PUBLISHED-TTL:PT1H
BEGIN:VTIMEZONE
TZID:America/Los_Angeles
BEGIN:DAYLIGHT
TZOFFSETFROM:-0800
TZOFFSETTO:-0700
TZNAME:PDT
DTSTART:20210314T100000
END:DAYLIGHT
BEGIN:STANDARD
TZOFFSETFROM:-0700
TZOFFSETTO:-0800
TZNAME:PST
DTSTART:20211107T090000
END:STANDARD
BEGIN:DAYLIGHT
TZOFFSETFROM:-0800
TZOFFSETTO:-0700
TZNAME:PDT
DTSTART:20220313T100000
END:DAYLIGHT
BEGIN:STANDARD
TZOFFSETFROM:-0700
TZOFFSETTO:-0800
TZNAME:PST
DTSTART:20221106T090000
END:STANDARD
END:VTIMEZONE
BEGIN:VEVENT
DTSTART;TZID=America/Los_Angeles:20220120T114500
DTEND;TZID=America/Los_Angeles:20220120T130000
DTSTAMP:20260423T154518
CREATED:20211113T013010Z
LAST-MODIFIED:20230905T072155Z
UID:10000107-1642679100-1642683600@harrt.ucla.edu
SUMMARY:HARRT at UCLA: Adam Galinsky\, Paul Calello Professor of Leadership and Ethics\, Columbia Business School. "Leadership Reset: Creating a Collaborative Culture in a Post-Pandemic Workplace".
DESCRIPTION:
URL:https://harrt.ucla.edu/event/harrt-at-ucla-adam-galinsky-paul-calello-professor-of-leadership-and-ethics-columbia-business-school-leadership-reset-creating-a-collaborative-culture-in-a-post-pandemic-workplace/
LOCATION:Virtual Round Table\, Twice-Weekly By Invitation Only\, United States
CATEGORIES:Associate Member Events,Senior Member Events,Virtual
END:VEVENT
BEGIN:VEVENT
DTSTART;TZID=America/Los_Angeles:20211014T120000
DTEND;TZID=America/Los_Angeles:20211028T133000
DTSTAMP:20260423T154518
CREATED:20210831T235724Z
LAST-MODIFIED:20230905T072135Z
UID:10000105-1634212800-1635427800@harrt.ucla.edu
SUMMARY:HARRT at UCLA pre-Retreat round tables (October 14\, 21\, & 28) virtual
DESCRIPTION:As a lead-up to the (in person) Annual Retreat on November 3\, Senior Executive members will (virtually) gather on three consecutive Thursdays in October\, to hear from individual thought leaders and discuss topics that will be expanded upon at the upcoming Retreat.
URL:https://harrt.ucla.edu/event/harrt-at-ucla-pre-retreat-round-tables-october-14-21-28/
LOCATION:Virtual Round Table\, Twice-Weekly By Invitation Only\, United States
CATEGORIES:Senior Member Events,Virtual
ATTACH;FMTTYPE=image/png:https://harrt.ucla.edu/wp-content/uploads/2021/08/2021-retreat-logo-1-1.png
END:VEVENT
END:VCALENDAR